BEGIN:VCALENDAR
METHOD:PUBLISH
VERSION:2.0
CALSCALE:GREGORIAN
PRODID:-//NONSGML WPForms//NONSGML Sugar Calendar Feeds v3.11.0//EN
X-WR-CALNAME:Hula Kahiko in the Park
X-WR-CALDESC:Volcano Art Center
X-WR-TIMEZONE:Pacific/Honolulu
BEGIN:VTIMEZONE
TZID:Pacific/Honolulu
BEGIN:STANDARD
TZOFFSETFROM:-1000
TZOFFSETTO:-1000
DTSTART:20251107T223000
TZNAME:HST
END:STANDARD
END:VTIMEZONE
BEGIN:VTIMEZONE
TZID:Pacific/Honolulu
BEGIN:STANDARD
TZOFFSETFROM:-1000
TZOFFSETTO:-1000
DTSTART:20251107T223000
TZNAME:HST
END:STANDARD
END:VTIMEZONE
BEGIN:VEVENT
SUMMARY:Hula Kahiko in the Park
DESCRIPTION:Hula Arts at Kilauea: Hula Kahiko performance on May 9th fea
 turing Keala Ching with Hula Hālau Nā Wai Iwi Ola. Held outdoors at th
 e kahua hula (hula platform) in Hawaiʻi Volcanoes National Park. Park e
 ntry fees apply. (808) 967-7565. The monthly performances are supported 
 in part by the Hawaii Tourism Authority.
URL;VALUE=URI:https://volcanoartcenter.org/events/hula-kahiko-in-the-par
 k-3/
UID:urn:uuid:c81a0db3-ee98-4015-99f8-0600da908716
STATUS:CONFIRMED
ORGANIZER:
DTSTAMP:20260423T144227Z
DTSTART;TZID=Pacific/Honolulu:20260509T103000
DTEND;TZID=Pacific/Honolulu:20260509T113000
LOCATION:Volcano Art Center Gallery
END:VEVENT
END:VCALENDAR