BEGIN:VCALENDAR
METHOD:PUBLISH
VERSION:2.0
CALSCALE:GREGORIAN
PRODID:-//NONSGML WPForms//NONSGML Sugar Calendar Feeds v3.11.0//EN
X-WR-CALNAME:CANCELLED - Hula Arts at Kilauea: Hula Kahiko performance
X-WR-CALDESC:Volcano Art Center
X-WR-TIMEZONE:Pacific/Honolulu
BEGIN:VTIMEZONE
TZID:Pacific/Honolulu
BEGIN:STANDARD
TZOFFSETFROM:-1000
TZOFFSETTO:-1000
DTSTART:20251017T223000
TZNAME:HST
END:STANDARD
END:VTIMEZONE
BEGIN:VTIMEZONE
TZID:Pacific/Honolulu
BEGIN:STANDARD
TZOFFSETFROM:-1000
TZOFFSETTO:-1000
DTSTART:20251017T223000
TZNAME:HST
END:STANDARD
END:VTIMEZONE
BEGIN:VEVENT
SUMMARY:CANCELLED - Hula Arts at Kilauea: Hula Kahiko performance
DESCRIPTION:CANCELLED: Volcano Art Center announces the cancellation of 
 the April 18th hula kahiko (traditional hula) performance with Kinohi 
 Neves\, Nāmaka DeMello\, Kimo Miranda and Hālau Haʻa Kea o Kinohi.  
 We apologize for this change and hope to reschedule this halau later in
  the year when environmental conditions improve.\nHula Arts at Kilauea: 
 Hula Kahiko performance on April 18th with Kinohi Neves\, Nāmaka DeMell
 o\, and Kimo Miranda with Hālau Haʻa Kea o Kinohi. Held outdoors at th
 e kahua hula (hula platform) in Hawaiʻi Volcanoes National Park. Park e
 ntry fees apply. (808) 967-7565. The monthly performances are supported 
 in part by the Hawaii Tourism Authority.
URL;VALUE=URI:https://volcanoartcenter.org/events/hula-arts-at-kilauea-h
 ula-kahiko-performance/
UID:urn:uuid:ea9ad348-f2c1-426d-a29b-a1c5503f502a
STATUS:CONFIRMED
ORGANIZER:
DTSTAMP:20260420T144136Z
DTSTART;TZID=Pacific/Honolulu:20260418T103000
DTEND;TZID=Pacific/Honolulu:20260418T113000
LOCATION:Volcano Art Center Gallery
END:VEVENT
END:VCALENDAR