BEGIN:VCALENDAR
METHOD:PUBLISH
VERSION:2.0
CALSCALE:GREGORIAN
PRODID:-//NONSGML WPForms//NONSGML Sugar Calendar Feeds v3.11.0//EN
X-WR-CALNAME:Deadline for Quilt Show entry
X-WR-CALDESC:Volcano Art Center
X-WR-TIMEZONE:Pacific/Honolulu
BEGIN:VTIMEZONE
TZID:Pacific/Honolulu
BEGIN:STANDARD
TZOFFSETFROM:-1000
TZOFFSETTO:-1000
DTSTART:20251213T220000
TZNAME:HST
END:STANDARD
END:VTIMEZONE
BEGIN:VTIMEZONE
TZID:Pacific/Honolulu
BEGIN:STANDARD
TZOFFSETFROM:-1000
TZOFFSETTO:-1000
DTSTART:20251213T220000
TZNAME:HST
END:STANDARD
END:VTIMEZONE
BEGIN:VEVENT
SUMMARY:Deadline for Quilt Show entry
DESCRIPTION:VAC's 6th biennial quilt show\, Peace By Piece.  Fiber ar
 tists and quilters are asked to explore how fabric\, pattern\, and stitc
 h become acts of care\, healing\, and unity. From the quiet rhythm of a 
 simple stitch\, a quilt can provide comfort and warmth or tell a story o
 f a person or place. VAC hopes to inspire artists to create works of art
  through rich traditions or explore new and innovative ways in quilting.
  The exhibition will be on display at VAC’s Niaulani Campus July 18th 
 – August 9th of 2026.\nOnline registrations now available! Register HE
 RE \n\nEntries due by June 14th\, 2026.
URL;VALUE=URI:https://volcanoartcenter.org/events/deadline-for-quilt-sho
 w-entry/
UID:urn:uuid:5da1975d-95f1-45da-a339-4f7711d9ef23
STATUS:CONFIRMED
ORGANIZER:
DTSTAMP:20260423T161348Z
DTSTART;TZID=Pacific/Honolulu:20260614T100000
DTEND;TZID=Pacific/Honolulu:20260614T160000
LOCATION:19-4074 Old Volcano Rd
END:VEVENT
END:VCALENDAR