BEGIN:VCALENDAR
METHOD:PUBLISH
VERSION:2.0
CALSCALE:GREGORIAN
PRODID:-//NONSGML WPForms//NONSGML Sugar Calendar Feeds v3.11.0//EN
X-WR-CALNAME:Book Signing:  Mother Tree\, Daughter Seed: Lessons in Slow
  Growth\, written by Mārata Ketekiri Tamaira\, illustrated by Carl Fran
 klin Ka‘ailā‘au Pao.
X-WR-CALDESC:Volcano Art Center
X-WR-TIMEZONE:Pacific/Honolulu
BEGIN:VTIMEZONE
TZID:Pacific/Honolulu
BEGIN:STANDARD
TZOFFSETFROM:-1000
TZOFFSETTO:-1000
DTSTART:20251031T230000
TZNAME:HST
END:STANDARD
END:VTIMEZONE
BEGIN:VTIMEZONE
TZID:Pacific/Honolulu
BEGIN:STANDARD
TZOFFSETFROM:-1000
TZOFFSETTO:-1000
DTSTART:20251031T230000
TZNAME:HST
END:STANDARD
END:VTIMEZONE
BEGIN:VEVENT
SUMMARY:Book Signing:  Mother Tree\, Daughter Seed: Lessons in Slow Grow
 th\, written by Mārata Ketekiri Tamaira\, illustrated by Carl Franklin 
 Ka‘ailā‘au Pao.
DESCRIPTION:Book signing on Saturday\, May 2nd from 11am -1pm at VAC Gal
 lery in Hawaiʻi Volcanoes National Park. The book titled Mother Tree\
 , Daughter Seed: Lessons in Slow Growth written by Mārata Ketekiri Tam
 aira\, illustrated by Carl Franklin Ka‘ailā‘au Pao.\n\nMother Tree\
 , Daughter Seed: Lessons in Slow Growth follows the tender relationship
  between two native Hawaiian koa trees\, Mother Tree and her offspring D
 aughter Seed. From the moment she wakes from her long sleep beneath the 
 soil\, Daughter Seed is apprehensive about the world around her. However
 \, at every stage of her development\, Mother Tree is there to impart he
 r wisdom and teach her precious seed that everything she requires to be 
 strong is already inside her—all she needs to do is look within. Over 
 the course of many decades Daughter Seed learns the meaning of self-wort
 h\, the value of slow growth\, and the interconnectedness of all things.
 \n\nBlending contemplative storytelling and vibrant illustrations\, Mot
 her Tree\, Daughter Seed is rooted in an ethos of social emotional lite
 racy and ecological stewardship\, engendering in readers an empathy for 
 self and for the wider natural world. An ‘ike Hawai‘i perspective is
  privileged and reinforced through the inclusion of ‘ōlelo Hawai‘i 
 (Hawaiian language) and Hawaiian concepts and values. Supplemental educa
 tional material provides further reading about trees and the importance 
 of native forest conservation in Hawai‘i with recommendations on ways 
 readers can help in that effort.
URL;VALUE=URI:https://volcanoartcenter.org/events/book-signing-mother-tr
 ee-daughter-seed-lessons-in-slow-growth-was-written-by-marata-ketekiri-t
 amaira-illustrated-by-carl-franklin-kaailaau-pao/
UID:urn:uuid:18df4c7a-aee3-4abe-9e03-4278ebe27353
STATUS:CONFIRMED
ORGANIZER:
DTSTAMP:20260425T123453Z
DTSTART;TZID=Pacific/Honolulu:20260502T110000
DTEND;TZID=Pacific/Honolulu:20260502T130000
LOCATION:Volcano Art Center Gallery
END:VEVENT
END:VCALENDAR