BEGIN:VCALENDAR
METHOD:PUBLISH
VERSION:2.0
CALSCALE:GREGORIAN
PRODID:-//NONSGML WPForms//NONSGML Sugar Calendar Feeds v3.11.0//EN
X-WR-CALNAME:Adventures-in-Clay-with-Monika-Mann
X-WR-CALDESC:Volcano Art Center
X-WR-TIMEZONE:Pacific/Honolulu
BEGIN:VTIMEZONE
TZID:Pacific/Honolulu
BEGIN:STANDARD
TZOFFSETFROM:-1000
TZOFFSETTO:-1000
DTSTART:20251031T220000
TZNAME:HST
END:STANDARD
END:VTIMEZONE
BEGIN:VTIMEZONE
TZID:Pacific/Honolulu
BEGIN:STANDARD
TZOFFSETFROM:-1000
TZOFFSETTO:-1000
DTSTART:20251031T220000
TZNAME:HST
END:STANDARD
END:VTIMEZONE
BEGIN:VEVENT
SUMMARY:Adventures in Clay with Monika Mann
DESCRIPTION:Saturdays\, May 2nd – June 20th\, 10am -1pm.  Those new t
 o clay will be guided step by step through the basics of using the potte
 r’s wheel or handbuilding techniques. Continuing students and those wi
 th previous experience are encouraged to develop their skills and are we
 lcome to pursue more advanced directions with the instructor’s helpful
  input.\n\n8-week session: $245/$220 for VAC Members plus a $20 material
  fee\, for 6 lbs. of clay\, which includes glazes and firing\, labor). C
 all 808-967-8222 if you are not able to make all the sessions.\nAddition
 al clay will be available for purchase. to Register Call (808) 967-8222
  or REGISTER ONLINE
URL;VALUE=URI:https://volcanoartcenter.org/sc_recurring_event/adventures
 -in-clay-with-monika-mann-3/
UID:urn:uuid:2f6d1ba3-343a-4d37-b261-934c82d762b3
STATUS:CONFIRMED
ORGANIZER:
DTSTAMP:20260421T083821Z
DTSTART;TZID=Pacific/Honolulu:20260502T100000
DTEND;TZID=Pacific/Honolulu:20260502T130000
RRULE:FREQ=WEEKLY;INTERVAL=8;UNTIL=20260620T235959Z
LOCATION:19-4074 Old Volcano Rd
END:VEVENT
END:VCALENDAR